BEGIN:VCALENDAR
VERSION:2.0
PRODID:icalendar-ruby
CALSCALE:GREGORIAN
METHOD:PUBLISH
BEGIN:VEVENT
DTSTAMP:20260425T143659Z
UID:5-740179@elca-template4.tithelysetup.com
DTSTART:20260920T180000Z
DTEND:20260920T190000Z
CLASS:PUBLIC
CREATED:20260425T061938
DESCRIPTION:Sunday Worship
LAST-MODIFIED:20260425T061938
LOCATION:
SUMMARY:Sunday Worship
URL;VALUE=URI:https://elca-template4.tithelysetup.com/events/sunday-worship
 /2026-09-20
END:VEVENT
END:VCALENDAR
