BEGIN:VCALENDAR
VERSION:2.0
PRODID:icalendar-ruby
CALSCALE:GREGORIAN
METHOD:PUBLISH
BEGIN:VEVENT
DTSTAMP:20260425T173123Z
UID:5-740560@elca-template4.tithelysetup.com
DTSTART:20261004T180000Z
DTEND:20261004T190000Z
CLASS:PUBLIC
CREATED:20260425T090009
DESCRIPTION:Sunday Worship
LAST-MODIFIED:20260425T090009
LOCATION:
SUMMARY:Sunday Worship
URL;VALUE=URI:https://elca-template4.tithelysetup.com/events/sunday-worship
 /2026-10-04
END:VEVENT
END:VCALENDAR
