BEGIN:VCALENDAR
VERSION:2.0
PRODID:icalendar-ruby
CALSCALE:GREGORIAN
METHOD:PUBLISH
BEGIN:VEVENT
DTSTAMP:20260425T203954Z
UID:5-740941@elca-template4.tithelysetup.com
DTSTART:20261018T180000Z
DTEND:20261018T190000Z
CLASS:PUBLIC
CREATED:20260425T114021
DESCRIPTION:Sunday Worship
LAST-MODIFIED:20260425T114021
LOCATION:
SUMMARY:Sunday Worship
URL;VALUE=URI:https://elca-template4.tithelysetup.com/events/sunday-worship
 /2026-10-18
END:VEVENT
END:VCALENDAR
