BEGIN:VCALENDAR
VERSION:2.0
PRODID:icalendar-ruby
CALSCALE:GREGORIAN
METHOD:PUBLISH
BEGIN:VEVENT
DTSTAMP:20260425T235832Z
UID:5-741322@elca-template4.tithelysetup.com
DTSTART:20261101T190000Z
DTEND:20261101T200000Z
CLASS:PUBLIC
CREATED:20260425T142218
DESCRIPTION:Sunday Worship
LAST-MODIFIED:20260425T142218
LOCATION:
SUMMARY:Sunday Worship
URL;VALUE=URI:https://elca-template4.tithelysetup.com/events/sunday-worship
 /2026-11-01
END:VEVENT
END:VCALENDAR
